file format : IDRISI Raster A.1
file title  :
data type   : byte
file type   : binary
columns     : 1002
rows        : 1002
ref. system : plane
ref. units  : meters
unit dist.  : 1.
min. X      : 407295.000000
max. X      : 437355.000000
min. Y      : 6322395.000000
max. Y      : 6352455.000000
pos'n error : unknown
resolution  : unknown
min. value  : 7.
max. value  : 249.
display min : 7.
display max : 249. value unit : unknown
value error : unknown
flag value  : unknown
flag def'n  : unknown
legend cats : 0
lineage     : This file was created by the ErdIdris module with the command line: 5*C:\Ainars\LU\Nodarbibas\Magistri_2007\Faili_no_kurvja\Darba_atteli\darba_attels_6.img*C:\Ainars\LU\Nodarbibas\Magistri_2014\Prakt_nod\Idrisi\Multi_6_.rst
comment     : Source File Contains the Following Additional Information:
comment     : The datum name: WGS 84
comment     : The datum type: EPRJ_DATUM_PARAMETRIC
comment     : Parameter 1: 0.00000
comment     : Parameter 2: 0.00000
comment     : Parameter 3: 0.99960
comment     : Parameter 4: 0.00000
comment     : Parameter 5: 0.41888
comment     : Parameter 6: 0.00000
comment     : Parameter 7: 500000.00000
comment     : The name of the spheroid/ellipsoid: WGS 84
comment     : The major-semi axis of the ellipsoid in meters: 6378137.000
comment     : The minor-semi axis of the ellipsoid in meters: 6356752.314
comment     : The eccentricity of the ellipsoid, squared: 0.006694
comment     : The radius of the spheroid in meters: 6371007.181
comment     : Transverse MercatorTransverse MercatorTransverse MercatorTransverse MercatorTransverse MercatorTransverse Mercator
comment     : Scale Factor at Central Meridian 0.999600Scale Factor at Central Meridian 0.999600Scale Factor at Central Meridian 0.999600Scale Factor at Central Meridian 0.999600Scale Factor at Central Meridian 0.999600Scale Factor at Central Meridian 0.999600
comment     : Longitude of center projection 0.418879Longitude of center projection 0.418879Longitude of center projection 0.418879Longitude of center projection 0.418879Longitude of center projection 0.418879Longitude of center projection 0.418879
comment     : Latitude of center of projection 0.000000Latitude of center of projection 0.000000Latitude of center of projection 0.000000Latitude of center of projection 0.000000Latitude of center of projection 0.000000Latitude of center of projection 0.000000
comment     : False Easting 500000.000000False Easting 500000.000000False Easting 500000.000000False Easting 500000.000000False Easting 500000.000000False Easting 500000.000000
comment     : False Northing 0.000000False Northing 0.000000False Northing 0.000000False Northing 0.000000False Northing 0.000000False Northing 0.000000
comment     : The zone number for internal State Plane or UTM projections: 0
