<VRTDataset rasterXSize="20000" rasterYSize="20000">
  <SRS>PROJCS["LKS92 / Latvia TM",GEOGCS["LKS92",DATUM["Latvia_1992",SPHEROID["GRS 1980",6378137,298.257222101,AUTHORITY["EPSG","7019"]],TOWGS84[0,0,0,0,0,0,0],AUTHORITY["EPSG","6661"]],PRIMEM["Greenwich",0,AUTHORITY["EPSG","8901"]],UNIT["degree",0.0174532925199433,AUTHORITY["EPSG","9122"]],AUTHORITY["EPSG","4661"]],PROJECTION["Transverse_Mercator"],PARAMETER["latitude_of_origin",0],PARAMETER["central_meridian",24],PARAMETER["scale_factor",0.9996],PARAMETER["false_easting",500000],PARAMETER["false_northing",-6000000],UNIT["metre",1,AUTHORITY["EPSG","9001"]],AUTHORITY["EPSG","3059"]]</SRS>
  <GeoTransform>  4.9750000000000000e+05,  2.5000000000000000e-01,  0.0000000000000000e+00,  3.2500000000000000e+05,  0.0000000000000000e+00, -2.5000000000000000e-01</GeoTransform>
  <VRTRasterBand dataType="Byte" band="1">
    <ColorInterp>Red</ColorInterp>
    <SimpleSource>
      <SourceFilename relativeToVRT="1">4222-55_2.tif</SourceFilename>
      <SourceBand>1</SourceBand>
      <SourceProperties RasterXSize="10000" RasterYSize="10000" DataType="Byte" BlockXSize="512" BlockYSize="512" />
      <SrcRect xOff="0" yOff="0" xSize="10000" ySize="10000" />
      <DstRect xOff="0" yOff="10000" xSize="10000" ySize="10000" />
    </SimpleSource>
    <SimpleSource>
      <SourceFilename relativeToVRT="1">4311-51_1.tif</SourceFilename>
      <SourceBand>1</SourceBand>
      <SourceProperties RasterXSize="10000" RasterYSize="10000" DataType="Byte" BlockXSize="512" BlockYSize="512" />
      <SrcRect xOff="0" yOff="0" xSize="10000" ySize="10000" />
      <DstRect xOff="10000" yOff="10000" xSize="10000" ySize="10000" />
    </SimpleSource>
    <SimpleSource>
      <SourceFilename relativeToVRT="1">4311-51_3.tif</SourceFilename>
      <SourceBand>1</SourceBand>
      <SourceProperties RasterXSize="10000" RasterYSize="10000" DataType="Byte" BlockXSize="512" BlockYSize="512" />
      <SrcRect xOff="0" yOff="0" xSize="10000" ySize="10000" />
      <DstRect xOff="10000" yOff="0" xSize="10000" ySize="10000" />
    </SimpleSource>
  </VRTRasterBand>
  <VRTRasterBand dataType="Byte" band="2">
    <ColorInterp>Green</ColorInterp>
    <SimpleSource>
      <SourceFilename relativeToVRT="1">4222-55_2.tif</SourceFilename>
      <SourceBand>2</SourceBand>
      <SourceProperties RasterXSize="10000" RasterYSize="10000" DataType="Byte" BlockXSize="512" BlockYSize="512" />
      <SrcRect xOff="0" yOff="0" xSize="10000" ySize="10000" />
      <DstRect xOff="0" yOff="10000" xSize="10000" ySize="10000" />
    </SimpleSource>
    <SimpleSource>
      <SourceFilename relativeToVRT="1">4311-51_1.tif</SourceFilename>
      <SourceBand>2</SourceBand>
      <SourceProperties RasterXSize="10000" RasterYSize="10000" DataType="Byte" BlockXSize="512" BlockYSize="512" />
      <SrcRect xOff="0" yOff="0" xSize="10000" ySize="10000" />
      <DstRect xOff="10000" yOff="10000" xSize="10000" ySize="10000" />
    </SimpleSource>
    <SimpleSource>
      <SourceFilename relativeToVRT="1">4311-51_3.tif</SourceFilename>
      <SourceBand>2</SourceBand>
      <SourceProperties RasterXSize="10000" RasterYSize="10000" DataType="Byte" BlockXSize="512" BlockYSize="512" />
      <SrcRect xOff="0" yOff="0" xSize="10000" ySize="10000" />
      <DstRect xOff="10000" yOff="0" xSize="10000" ySize="10000" />
    </SimpleSource>
  </VRTRasterBand>
  <VRTRasterBand dataType="Byte" band="3">
    <ColorInterp>Blue</ColorInterp>
    <SimpleSource>
      <SourceFilename relativeToVRT="1">4222-55_2.tif</SourceFilename>
      <SourceBand>3</SourceBand>
      <SourceProperties RasterXSize="10000" RasterYSize="10000" DataType="Byte" BlockXSize="512" BlockYSize="512" />
      <SrcRect xOff="0" yOff="0" xSize="10000" ySize="10000" />
      <DstRect xOff="0" yOff="10000" xSize="10000" ySize="10000" />
    </SimpleSource>
    <SimpleSource>
      <SourceFilename relativeToVRT="1">4311-51_1.tif</SourceFilename>
      <SourceBand>3</SourceBand>
      <SourceProperties RasterXSize="10000" RasterYSize="10000" DataType="Byte" BlockXSize="512" BlockYSize="512" />
      <SrcRect xOff="0" yOff="0" xSize="10000" ySize="10000" />
      <DstRect xOff="10000" yOff="10000" xSize="10000" ySize="10000" />
    </SimpleSource>
    <SimpleSource>
      <SourceFilename relativeToVRT="1">4311-51_3.tif</SourceFilename>
      <SourceBand>3</SourceBand>
      <SourceProperties RasterXSize="10000" RasterYSize="10000" DataType="Byte" BlockXSize="512" BlockYSize="512" />
      <SrcRect xOff="0" yOff="0" xSize="10000" ySize="10000" />
      <DstRect xOff="10000" yOff="0" xSize="10000" ySize="10000" />
    </SimpleSource>
  </VRTRasterBand>
  <VRTRasterBand dataType="Byte" band="4">
    <SimpleSource>
      <SourceFilename relativeToVRT="1">4222-55_2.tif</SourceFilename>
      <SourceBand>4</SourceBand>
      <SourceProperties RasterXSize="10000" RasterYSize="10000" DataType="Byte" BlockXSize="512" BlockYSize="512" />
      <SrcRect xOff="0" yOff="0" xSize="10000" ySize="10000" />
      <DstRect xOff="0" yOff="10000" xSize="10000" ySize="10000" />
    </SimpleSource>
    <SimpleSource>
      <SourceFilename relativeToVRT="1">4311-51_1.tif</SourceFilename>
      <SourceBand>4</SourceBand>
      <SourceProperties RasterXSize="10000" RasterYSize="10000" DataType="Byte" BlockXSize="512" BlockYSize="512" />
      <SrcRect xOff="0" yOff="0" xSize="10000" ySize="10000" />
      <DstRect xOff="10000" yOff="10000" xSize="10000" ySize="10000" />
    </SimpleSource>
    <SimpleSource>
      <SourceFilename relativeToVRT="1">4311-51_3.tif</SourceFilename>
      <SourceBand>4</SourceBand>
      <SourceProperties RasterXSize="10000" RasterYSize="10000" DataType="Byte" BlockXSize="512" BlockYSize="512" />
      <SrcRect xOff="0" yOff="0" xSize="10000" ySize="10000" />
      <DstRect xOff="10000" yOff="0" xSize="10000" ySize="10000" />
    </SimpleSource>
  </VRTRasterBand>
</VRTDataset>
